BEGIN:VCALENDAR
VERSION:2.0
PRODID:-//MediaFutures - ECPv6.15.13.1//NONSGML v1.0//EN
CALSCALE:GREGORIAN
METHOD:PUBLISH
X-WR-CALNAME:MediaFutures
X-ORIGINAL-URL:https://mediafutures.no
X-WR-CALDESC:Events for MediaFutures
REFRESH-INTERVAL;VALUE=DURATION:PT1H
X-Robots-Tag:noindex
X-PUBLISHED-TTL:PT1H
BEGIN:VTIMEZONE
TZID:Europe/Oslo
BEGIN:DAYLIGHT
TZOFFSETFROM:+0100
TZOFFSETTO:+0200
TZNAME:CEST
DTSTART:20200329T010000
END:DAYLIGHT
BEGIN:STANDARD
TZOFFSETFROM:+0200
TZOFFSETTO:+0100
TZNAME:CET
DTSTART:20201025T010000
END:STANDARD
BEGIN:DAYLIGHT
TZOFFSETFROM:+0100
TZOFFSETTO:+0200
TZNAME:CEST
DTSTART:20210328T010000
END:DAYLIGHT
BEGIN:STANDARD
TZOFFSETFROM:+0200
TZOFFSETTO:+0100
TZNAME:CET
DTSTART:20211031T010000
END:STANDARD
BEGIN:DAYLIGHT
TZOFFSETFROM:+0100
TZOFFSETTO:+0200
TZNAME:CEST
DTSTART:20220327T010000
END:DAYLIGHT
BEGIN:STANDARD
TZOFFSETFROM:+0200
TZOFFSETTO:+0100
TZNAME:CET
DTSTART:20221030T010000
END:STANDARD
END:VTIMEZONE
BEGIN:VEVENT
DTSTART;TZID=Europe/Oslo:20210603T130000
DTEND;TZID=Europe/Oslo:20210603T140000
DTSTAMP:20260424T070145
CREATED:20210325T080321Z
LAST-MODIFIED:20210520T112711Z
UID:5417-1622725200-1622728800@mediafutures.no
SUMMARY:Seminar: AI in the social sciences AND a taxonomy of fake news: Two research themes. Rich Ling\, Nanyang Technological University\, Singapore.
DESCRIPTION:Welcome to a seminar with Shaw Foundation Professor of Media Technology\, Rich Ling\, at Nanyang Technological University\, Singapore\, on Thursday\, 3 June. \nTITLE: AI in the social sciences AND a taxonomy of fake news: Two research themes.\nWHEN: Thursday\, 3 June 2021\, 13:00-14:00\nWHERE: https://uib.zoom.us/j/66200674584?pwd=a2lUZ1dNZEZNNzdycVI2c1Z3aHhuQT09\nMeeting ID: 662 0067 4584\nPassword: KC8KX7zi \nABSTRACT: In this talk\, Rich Ling will examine the role of AI in social science research. In addition\, he will examine a taxonomy of fake news. In the case of AI in the social sciences\, Ling will examine how this technology is emerging as a new tool that will eventually shape social science research in the coming years. When considering fake news\, Ling will review how this phenomenon has been seen over the past decade and how researchers have approached it. \nBIO: Rich Ling has been the Shaw Foundation Professor of Media Technology\, at Nanyang Technological University\, Singapore where he studies the social consequences of mobile communication. Ling has written The mobile connection (2004)\, New Tech\, New Ties (2008) and Taken for grantedness (2012). He edits the Journal of Computer-Mediated Communication\, and a founding co-editor of both Mobile Media and Communication and the Oxford University Press Series\, Studies in Mobile Communication. He is a member of Det Norske Vitenskaps Akademi (The Norwegian Academy of Arts and Letters)\, Academia Europaea\, and a fellow of the International Communication Association. \nWelcome to all!
URL:https://mediafutures.no/event/seminar-rich-ling-nanyang-technological-university-singapore/
LOCATION:Online
CATEGORIES:Events,Seminar,WP4 Media Content Interaction & Accessibility
ATTACH;FMTTYPE=image/jpeg:https://mediafutures.no/wp-content/uploads/Rich-Ling-1-e1625469857856.jpg
END:VEVENT
END:VCALENDAR