BEGIN:VCALENDAR
VERSION:2.0
PRODID:-//MediaFutures - ECPv6.15.13.1//NONSGML v1.0//EN
CALSCALE:GREGORIAN
METHOD:PUBLISH
X-WR-CALNAME:MediaFutures
X-ORIGINAL-URL:https://mediafutures.no
X-WR-CALDESC:Events for MediaFutures
REFRESH-INTERVAL;VALUE=DURATION:PT1H
X-Robots-Tag:noindex
X-PUBLISHED-TTL:PT1H
BEGIN:VTIMEZONE
TZID:Europe/Oslo
BEGIN:DAYLIGHT
TZOFFSETFROM:+0100
TZOFFSETTO:+0200
TZNAME:CEST
DTSTART:20220327T010000
END:DAYLIGHT
BEGIN:STANDARD
TZOFFSETFROM:+0200
TZOFFSETTO:+0100
TZNAME:CET
DTSTART:20221030T010000
END:STANDARD
BEGIN:DAYLIGHT
TZOFFSETFROM:+0100
TZOFFSETTO:+0200
TZNAME:CEST
DTSTART:20230326T010000
END:DAYLIGHT
BEGIN:STANDARD
TZOFFSETFROM:+0200
TZOFFSETTO:+0100
TZNAME:CET
DTSTART:20231029T010000
END:STANDARD
BEGIN:DAYLIGHT
TZOFFSETFROM:+0100
TZOFFSETTO:+0200
TZNAME:CEST
DTSTART:20240331T010000
END:DAYLIGHT
BEGIN:STANDARD
TZOFFSETFROM:+0200
TZOFFSETTO:+0100
TZNAME:CET
DTSTART:20241027T010000
END:STANDARD
BEGIN:DAYLIGHT
TZOFFSETFROM:+0100
TZOFFSETTO:+0200
TZNAME:CEST
DTSTART:20250330T010000
END:DAYLIGHT
BEGIN:STANDARD
TZOFFSETFROM:+0200
TZOFFSETTO:+0100
TZNAME:CET
DTSTART:20251026T010000
END:STANDARD
END:VTIMEZONE
BEGIN:VEVENT
DTSTART;TZID=Europe/Oslo:20230511T124500
DTEND;TZID=Europe/Oslo:20230511T134500
DTSTAMP:20260422T235105
CREATED:20230607T085016Z
LAST-MODIFIED:20230607T085215Z
UID:15334-1683809100-1683812700@mediafutures.no
SUMMARY:Visualization for Mobile Devices and Embedded Experiences
DESCRIPTION:Welcome to a new department seminar! \n  \nAbstract: \nMobile devices\, such as smartwatches\, fitness bands\, and phones record a variety of data with the goal of making it immediately available to wearers. Smartwatch faces\, for example\, have become mini data dashboards that can give an overview of data such as step counts\, heart rates\, locations\, sleep information or even device-external data such as the current temperature or weather predictions. Due to their small screen size and usage context\, mobile device screens pose several novel and interesting challenges to visualization: visualizations need not only to be small and glanceable but also often to be read in motion. In this talk\, I will present a summary of our past work on mobile device visualization and outline open research opportunities. \n  \nBio:  \nPetra Isenberg is a research director(DR) at the Inria Saclay Centre at Université Paris-Saclay\, France in the Aviz team and part of the Computer Science Laboratory (LISN) of the University Paris-Saclay. Her main research areas are visualization and visual analytics with a focus on visualization for non-desktop devices\, interaction\, and evaluation.  Petra’s research papers have received awards at premiere venues in Visualization and HCI such as IEEE VIS\, IEEE VAST\, ACM CHI\, or EuroVis. She is currently vice-chair of the IEEE VIS steering committee\, AEiC at IEEE CG&A\, and AE at Computer Graphics Forum. Prior to joining Inria\, Petra received her PhD from the University of Calgary in 2010 on collaborative information visualization\, and a Diplom Engineer degree in Computational Visualistics from the University of Magdeburg (2004).  \n\n 
URL:https://mediafutures.no/event/visualization-for-mobile-devices-and-embedded-experiences/
CATEGORIES:Events,WP4 Media Content Interaction & Accessibility
ATTACH;FMTTYPE=image/png:https://mediafutures.no/wp-content/uploads/petra_coll.png
END:VEVENT
BEGIN:VEVENT
DTSTART;TZID=Europe/Oslo:20240604T110000
DTEND;TZID=Europe/Oslo:20240604T112000
DTSTAMP:20260422T235105
CREATED:20240603T122232Z
LAST-MODIFIED:20240603T122232Z
UID:18885-1717498800-1717500000@mediafutures.no
SUMMARY:One size fits one - accessibility through preferences
DESCRIPTION:Yngvar Nordberg\, representing TV 2 Skole AS and WP4 on Media Content Interaction & Accessibility\, will be an invited presenter at the COST LEAD-ME Seminar on “Media Accessibility in the Age of Artificial Intelligence”\, taking place on June 4\, 2024\, at the St. Raphael Resort\, Limassol\, Cyprus.\n\n \nRemote participants are welcome: \nVideo call link: https://meet.google.com/mdr-wyvp-ccm \nYngvar Nordberg\, TV 2 Skole AS and WP4\, title: \nOne size fits one – accessibility through preferences \n\nIn 1992\, all state-run special schools were closed with the exception of schools for sign language students. The ideology was that special education should take place in a classroom setting together with peers at the local school. In the compulsory primary school\, achieving a ‘school for all’\, or one that is fully inclusive\, is an important policy goal and part of the official aims behind the system of education for all children in Norway. TV 2 Schools educational web-service – elevkanalen.no – has for more than 10 years developed an API that governs a very successful preference-dashboard. Teacher set preferences on his/her pupils. Eye-gaze navigation\, one-button navigation\, two-button navigation etc.; symbol-support; background colors\, font color – It is a user-centric design backed up by national activities in Standards Norway Committee 607 and ongoing work in ISO/IEC JTC1/SC 36/WG 7 – metadata for individualized accessibility. To achieve true accessibility – AI is obviously the road ahead. Machine learning that automatically detects the users needs is already a component in our one fits one approach\, but we need more. This goes for navigation – AI-driven eye-gaze calibration AI-driven tasks like alt-text to pictures\, and captions to film for the blind; text-levels etc. We believe our activities already has a proven potential outside our own organisation in Norway and would love to present them in a Lead-Me – context. \nMore on COST LEAD-ME: \n\nLEAD-ME aims to help European stakeholders in the field of Media Accessibility to meet legal milestones requested by European legislation. Researchers\, engineers and scholars as well as businesses and policy makers will be empowered by LEAD-ME with a common and unique platform which will collect\, create\, and disseminate innovative technologies and solutions\, best practices and guidelines.\nhttps://lead-me-cost.eu/
URL:https://mediafutures.no/event/one-size-fits-one-accessibility-through-preferences/
LOCATION:Remote
CATEGORIES:Events,WP4 Media Content Interaction & Accessibility
ATTACH;FMTTYPE=image/png:https://mediafutures.no/wp-content/uploads/Frame-1-5-2.png
END:VEVENT
END:VCALENDAR