BEGIN:VCALENDAR
VERSION:2.0
PRODID:-//MediaFutures - ECPv6.15.13.1//NONSGML v1.0//EN
CALSCALE:GREGORIAN
METHOD:PUBLISH
X-WR-CALNAME:MediaFutures
X-ORIGINAL-URL:https://mediafutures.no
X-WR-CALDESC:Events for MediaFutures
REFRESH-INTERVAL;VALUE=DURATION:PT1H
X-Robots-Tag:noindex
X-PUBLISHED-TTL:PT1H
BEGIN:VTIMEZONE
TZID:Europe/Oslo
BEGIN:DAYLIGHT
TZOFFSETFROM:+0100
TZOFFSETTO:+0200
TZNAME:CEST
DTSTART:20240331T010000
END:DAYLIGHT
BEGIN:STANDARD
TZOFFSETFROM:+0200
TZOFFSETTO:+0100
TZNAME:CET
DTSTART:20241027T010000
END:STANDARD
BEGIN:DAYLIGHT
TZOFFSETFROM:+0100
TZOFFSETTO:+0200
TZNAME:CEST
DTSTART:20250330T010000
END:DAYLIGHT
BEGIN:STANDARD
TZOFFSETFROM:+0200
TZOFFSETTO:+0100
TZNAME:CET
DTSTART:20251026T010000
END:STANDARD
BEGIN:DAYLIGHT
TZOFFSETFROM:+0100
TZOFFSETTO:+0200
TZNAME:CEST
DTSTART:20260329T010000
END:DAYLIGHT
BEGIN:STANDARD
TZOFFSETFROM:+0200
TZOFFSETTO:+0100
TZNAME:CET
DTSTART:20261025T010000
END:STANDARD
END:VTIMEZONE
BEGIN:VEVENT
DTSTART;TZID=Europe/Oslo:20250603T091500
DTEND;TZID=Europe/Oslo:20250603T150000
DTSTAMP:20260421T040822
CREATED:20250324T070120Z
LAST-MODIFIED:20250521T090812Z
UID:20568-1748942100-1748962800@mediafutures.no
SUMMARY:Phd Defense of Sohail Ahmed Khan
DESCRIPTION:On Tuesday\, June 3rd\, PhD candidate Sohail Ahmed Khan will defend his PhD thesis “Computational Visual Content Verification”. The trial lecture starts at 09.15\, and the defense starts at 10.30. \nIn his dissertation\, Sohail Khan explores how newsrooms verify visual user-generated content (UGC) and examines growing challenges related to manipulated media content such as deepfakes and cheapfakes. The dissertation analyses current verification practices in journalism\, maps existing tools and workflows\, and uncovers a clear gap between technological advances and newsroom practices. \nThrough the thesis\, Sohail contributes both a critical review of the current verification landscape and new AI-based methods for detecting deepfakes and cheapfakes. The research also emphasises the need for closer collaboration between researchers and journalists\, and highlights initiatives to build a research community around these challenges\, including through international media verification competitions. \nOpponents: \n\nProfessor Giulia Boato\, Department of Information Engineering and Computer Science\, University of Trento\nAssociate Professor Nhien-An Le-Khac\, School of Computer Science\, University College Dublin\n\nChair of the committee: Professor Bjørnar Tessem \nChair of the defense: Professor Knut Helland \n 
URL:https://mediafutures.no/event/sohail-phd-defense/
LOCATION:Ulrike Pihls Hus\, Ulrikes aula\, Professor Keysers gate 1\, Bergen\, Norway
CATEGORIES:Events,WP3 Media Content Production & Analysis
ATTACH;FMTTYPE=image/png:https://mediafutures.no/wp-content/uploads/sohailphddefense.png
END:VEVENT
END:VCALENDAR