BEGIN:VCALENDAR
VERSION:2.0
PRODID:-//MediaFutures - ECPv6.15.13.1//NONSGML v1.0//EN
CALSCALE:GREGORIAN
METHOD:PUBLISH
X-WR-CALNAME:MediaFutures
X-ORIGINAL-URL:https://mediafutures.no
X-WR-CALDESC:Events for MediaFutures
REFRESH-INTERVAL;VALUE=DURATION:PT1H
X-Robots-Tag:noindex
X-PUBLISHED-TTL:PT1H
BEGIN:VTIMEZONE
TZID:Europe/Oslo
BEGIN:DAYLIGHT
TZOFFSETFROM:+0100
TZOFFSETTO:+0200
TZNAME:CEST
DTSTART:20200329T010000
END:DAYLIGHT
BEGIN:STANDARD
TZOFFSETFROM:+0200
TZOFFSETTO:+0100
TZNAME:CET
DTSTART:20201025T010000
END:STANDARD
BEGIN:DAYLIGHT
TZOFFSETFROM:+0100
TZOFFSETTO:+0200
TZNAME:CEST
DTSTART:20210328T010000
END:DAYLIGHT
BEGIN:STANDARD
TZOFFSETFROM:+0200
TZOFFSETTO:+0100
TZNAME:CET
DTSTART:20211031T010000
END:STANDARD
BEGIN:DAYLIGHT
TZOFFSETFROM:+0100
TZOFFSETTO:+0200
TZNAME:CEST
DTSTART:20220327T010000
END:DAYLIGHT
BEGIN:STANDARD
TZOFFSETFROM:+0200
TZOFFSETTO:+0100
TZNAME:CET
DTSTART:20221030T010000
END:STANDARD
END:VTIMEZONE
BEGIN:VEVENT
DTSTART;TZID=Europe/Oslo:20211015T120000
DTEND;TZID=Europe/Oslo:20211015T130000
DTSTAMP:20260424T044229
CREATED:20210916T115029Z
LAST-MODIFIED:20220225T081524Z
UID:9224-1634299200-1634302800@mediafutures.no
SUMMARY:MediaFutures Seminar: Nordis - The Nordic Observatory for Digital Media and Information Disorder\, Carl-Gustav Lindén
DESCRIPTION:Carl-Gustav Lindén\, Associate Professor in Data Journalism at the University of Bergen\, will give a talk to the MediaFutures community on 15 October at 12:00 about the new project titled “Nordis – The Nordic Observatory for Digital Media and Information Disorder”. The Nordis project is funded by the European Commission for a duration of two years\, and is led by DATALAB at Aarhus University in Denmark. It’s a Nordic consortium\, where the University of Bergen and Faktisk.no\, are the Norwegian partners. \nTITLE: Nordis – The Nordic Observatory for Digital Media and Information DisorderWHEN: Friday 15 October 2021\, 12:00-13:00WHERE: https://uib.zoom.us/j/67891397775?pwd=em9GeVg4K3Vmb25FVk4yb3VtQ0FmQT09Meeting ID: 678 9139 7775Password: jstmr0tC \nAbstract:  \nUniversity of Bergen (UiB) is part of the EU funded project NORDIS – Nordic observatory for digital media and information disorders that was launched on September 1. The European Commission has announced the eight selected national hubs that will become part of the European Digital Media Observatory (EDMO) network. The network of hubs on digital media will contribute to the fight against disinformation. NORDIS will be an independent Nordic regional hub with all national certified fact-checkers and a university in each of the four biggest Nordic countries Sweden\, Finland\, Norway and Denmark. The consortium will contribute to EDMO and the European infrastructure of combating disinformation and digital information disorder with a specific welfare state perspective. NORDIS is coordinated by Aarhus Universitet and UiB is responsible for Work Package 3 that will center around innovation and technology. In this WP the researchers at UiB will collaborate closely with fact-checkers and new technology companies as well as other EDMO hubs to analyse user needs and develop new tools for verification of content. \nBio:  \nCarl-Gustav Lindén is Associate Professor of Data Journalism at UiB and will be working with the NORDIS project during 2021-2023.
URL:https://mediafutures.no/event/mediafutures-seminar-nordis-the-nordic-observatory-for-digital-media-and-information-disorder-carl-gustav-linden/
LOCATION:Online
CATEGORIES:Events,Seminar,WP3 Media Content Production & Analysis
ATTACH;FMTTYPE=image/png:https://mediafutures.no/wp-content/uploads/carl-gustav-linden-e1636030793761.png
END:VEVENT
END:VCALENDAR