BEGIN:VCALENDAR
VERSION:2.0
PRODID:-//MediaFutures - ECPv6.15.13.1//NONSGML v1.0//EN
CALSCALE:GREGORIAN
METHOD:PUBLISH
X-WR-CALNAME:MediaFutures
X-ORIGINAL-URL:https://mediafutures.no
X-WR-CALDESC:Events for MediaFutures
REFRESH-INTERVAL;VALUE=DURATION:PT1H
X-Robots-Tag:noindex
X-PUBLISHED-TTL:PT1H
BEGIN:VTIMEZONE
TZID:Europe/Oslo
BEGIN:DAYLIGHT
TZOFFSETFROM:+0100
TZOFFSETTO:+0200
TZNAME:CEST
DTSTART:20210328T010000
END:DAYLIGHT
BEGIN:STANDARD
TZOFFSETFROM:+0200
TZOFFSETTO:+0100
TZNAME:CET
DTSTART:20211031T010000
END:STANDARD
BEGIN:DAYLIGHT
TZOFFSETFROM:+0100
TZOFFSETTO:+0200
TZNAME:CEST
DTSTART:20220327T010000
END:DAYLIGHT
BEGIN:STANDARD
TZOFFSETFROM:+0200
TZOFFSETTO:+0100
TZNAME:CET
DTSTART:20221030T010000
END:STANDARD
BEGIN:DAYLIGHT
TZOFFSETFROM:+0100
TZOFFSETTO:+0200
TZNAME:CEST
DTSTART:20230326T010000
END:DAYLIGHT
BEGIN:STANDARD
TZOFFSETFROM:+0200
TZOFFSETTO:+0100
TZNAME:CET
DTSTART:20231029T010000
END:STANDARD
END:VTIMEZONE
BEGIN:VEVENT
DTSTART;TZID=Europe/Oslo:20220114T110000
DTEND;TZID=Europe/Oslo:20220114T120000
DTSTAMP:20260423T221206
CREATED:20220107T203514Z
LAST-MODIFIED:20220115T205554Z
UID:10693-1642158000-1642161600@mediafutures.no
SUMMARY:MediaFutures Seminar: Automated Fact-checking: the scope of the problem in the state-of-the-art. Postdoc Fellow Ghazaal Sheikhi.
DESCRIPTION:Ghazaal Sheikhi\, Postdoc Fellow from MediaFutures\, University of Bergen\, Norway will give a seminar on 14 January\, at 11:00. \nTITLE: Automated Fact-checking: the scope of the problem in the state-of-the-artWHEN: Friday 14 January\, 11:00-12:00WHERE: Zoom https://uib.zoom.us/j/68310482035?pwd=NHR2NXhuU1lZSjFHdEZCekNxaC9yZz09Meeting ID: 683 1048 2035Password: krFzY285 \nABSTRACT: \nFact-checking in technical terms is the process of analyzing textual content for claim veracity detection. To mitigate the time and the human burden of fact-checking and to allow for more fact-checked articles\, the use of ML and NLP to automate the fact-checking procedure has attracted notable interest in the recent decade. Automated fact-checking can be decomposed into three major sub-tasks including claim detection\, evidence retrieval/ranking\, and claim verification. Factual verification is the term used to refer to evidence retrieval and verification\, integrated into a single task. Stance detection has also been considered as a distinct component of the pipeline\, but it is basically part of the verification procedure. Another integrant of the verification sometimes addressed as a separate task is justification/explanation generation. The proposed solutions either result in end-to-end fact-checking systems or tackle certain tasks in the pipeline. This seminar covers the scope of the automated fact-checking problem in recent literature focusing on several approaches based on traditional machine learning techniques\, deep learning models\, information retrieval systems\, and knowledge graphs.   \nBIO: \nGhazaal Sheikhi is a Postdoctoral Fellow in the Department of Information Science and Media Studies\, University of Bergen\, Norway. Her research interests revolve around machine learning\, natural language processing and content analysis. Ghazaal investigates (semi) automated methods and tools to support fact-checking in newsrooms. In MediaFutures\, she studies AI systems\, NLP models and\, ML methods to support fact-checking in newsrooms\, particularly aiming at enhancing claim detection\, verification\, and justification.  \nBefore\, Ghazaal was an Assistant Professor in the Faculty of Engineering\, Final International University\, North Cyprus. She holds a PhD in Computer Engineering (Machine Learning) from Eastern Mediterranean University\, North Cyprus and a master’s degree in Biomedical Engineering from the Amirkabir University of Technology\, Tehran\, Iran.
URL:https://mediafutures.no/event/mediafutures-seminar-automated-fact-checking-the-scope-of-the-problem-in-the-state-of-the-art-postdoc-fellow-ghazaal-sheikhi/
CATEGORIES:Events,Seminar,WP3 Media Content Production & Analysis
ATTACH;FMTTYPE=image/jpeg:https://mediafutures.no/wp-content/uploads/Ghazaal_sized.jpeg
END:VEVENT
END:VCALENDAR