BEGIN:VCALENDAR
VERSION:2.0
PRODID:-//MediaFutures - ECPv6.15.13.1//NONSGML v1.0//EN
CALSCALE:GREGORIAN
METHOD:PUBLISH
X-WR-CALNAME:MediaFutures
X-ORIGINAL-URL:https://mediafutures.no
X-WR-CALDESC:Events for MediaFutures
REFRESH-INTERVAL;VALUE=DURATION:PT1H
X-Robots-Tag:noindex
X-PUBLISHED-TTL:PT1H
BEGIN:VTIMEZONE
TZID:Europe/Oslo
BEGIN:DAYLIGHT
TZOFFSETFROM:+0100
TZOFFSETTO:+0200
TZNAME:CEST
DTSTART:20200329T010000
END:DAYLIGHT
BEGIN:STANDARD
TZOFFSETFROM:+0200
TZOFFSETTO:+0100
TZNAME:CET
DTSTART:20201025T010000
END:STANDARD
BEGIN:DAYLIGHT
TZOFFSETFROM:+0100
TZOFFSETTO:+0200
TZNAME:CEST
DTSTART:20210328T010000
END:DAYLIGHT
BEGIN:STANDARD
TZOFFSETFROM:+0200
TZOFFSETTO:+0100
TZNAME:CET
DTSTART:20211031T010000
END:STANDARD
BEGIN:DAYLIGHT
TZOFFSETFROM:+0100
TZOFFSETTO:+0200
TZNAME:CEST
DTSTART:20220327T010000
END:DAYLIGHT
BEGIN:STANDARD
TZOFFSETFROM:+0200
TZOFFSETTO:+0100
TZNAME:CET
DTSTART:20221030T010000
END:STANDARD
END:VTIMEZONE
BEGIN:VEVENT
DTSTART;TZID=Europe/Oslo:20210924T110000
DTEND;TZID=Europe/Oslo:20210924T120000
DTSTAMP:20260424T043028
CREATED:20210906T094652Z
LAST-MODIFIED:20220225T081930Z
UID:8958-1632481200-1632484800@mediafutures.no
SUMMARY:Seminar: Natural Language Generation\, Automated Journalism and Finding the Middle Road
DESCRIPTION:MediaFutures is pleased to announce that Leo Leppänen\, who is a computer science doctoral student at the Discovery Research Group of University of Helsinki\, Finland will be giving a seminar on the topic of natural language generation. \nWelcome to all! \nTITLE: Natural Language Generation\, Automated Journalism and Finding the Middle Road\nWHEN: Friday\, 24 September 2021\, at 11.00-12.00\nWHERE: https://uib.zoom.us/j/63314203494?pwd=dGM0MlkwR1QwUjY5RW9UZXR1VnJ3QT09#success\nMeeting ID: 633 1420 3494\nPassword: TC17bnzj \nAfter more than half a century of academic research\, natural language generation has established a clear foothold in the newsroom. In this talk\, I’ll discuss lessons learned from building multilingual natural language generation systems for several number-heavy news domains such as elections\, national statistics\, and COVID developments. We’ll discuss what I believe are the most significant relative downsides associated with commonly employed approaches\, and what could be a “middle road” that might sidestep at least some of said downsides. This exploration is not limited to purely technical aspects\, and we will also make short detours to some legal and ethical questions related to automated production of news texts.\n		\n			\n				\n			\n			\n		 \n		\n			Leo Leppänen is a computer science doctoral student at the Discovery Research Group of University of Helsinki\, Finland. His research focus is on data-to-text natural language generation\, more specifically on the automated generation of reports for purposes of news\, analysis of historical news paper collections\, teaching etc. In addition to approaching the topic from a computer science perspective\, he is also interested in both ethical and legal questions related to use of AI in the newsroom.
URL:https://mediafutures.no/event/natural-language-generation-automated-journalism-and-finding-the-middle-road/
LOCATION:Online
CATEGORIES:Events,Seminar,WP3 Media Content Production & Analysis
ATTACH;FMTTYPE=image/jpeg:https://mediafutures.no/wp-content/uploads/portrait_ljleppan_small-e1636031096757.jpg
END:VEVENT
END:VCALENDAR