BEGIN:VCALENDAR
VERSION:2.0
PRODID:-//MediaFutures - ECPv6.15.13.1//NONSGML v1.0//EN
CALSCALE:GREGORIAN
METHOD:PUBLISH
X-WR-CALNAME:MediaFutures
X-ORIGINAL-URL:https://mediafutures.no
X-WR-CALDESC:Events for MediaFutures
REFRESH-INTERVAL;VALUE=DURATION:PT1H
X-Robots-Tag:noindex
X-PUBLISHED-TTL:PT1H
BEGIN:VTIMEZONE
TZID:Europe/Oslo
BEGIN:DAYLIGHT
TZOFFSETFROM:+0100
TZOFFSETTO:+0200
TZNAME:CEST
DTSTART:20240331T010000
END:DAYLIGHT
BEGIN:STANDARD
TZOFFSETFROM:+0200
TZOFFSETTO:+0100
TZNAME:CET
DTSTART:20241027T010000
END:STANDARD
BEGIN:DAYLIGHT
TZOFFSETFROM:+0100
TZOFFSETTO:+0200
TZNAME:CEST
DTSTART:20250330T010000
END:DAYLIGHT
BEGIN:STANDARD
TZOFFSETFROM:+0200
TZOFFSETTO:+0100
TZNAME:CET
DTSTART:20251026T010000
END:STANDARD
BEGIN:DAYLIGHT
TZOFFSETFROM:+0100
TZOFFSETTO:+0200
TZNAME:CEST
DTSTART:20260329T010000
END:DAYLIGHT
BEGIN:STANDARD
TZOFFSETFROM:+0200
TZOFFSETTO:+0100
TZNAME:CET
DTSTART:20261025T010000
END:STANDARD
END:VTIMEZONE
BEGIN:VEVENT
DTSTART;TZID=Europe/Oslo:20250403T153000
DTEND;TZID=Europe/Oslo:20250403T163000
DTSTAMP:20260421T060307
CREATED:20250321T152101Z
LAST-MODIFIED:20250402T133519Z
UID:20540-1743694200-1743697800@mediafutures.no
SUMMARY:Mid-term evaluation of PhD candidate Bilal Mahmood
DESCRIPTION:On Thursday\, April 3rd\, PhD candidate Bilal Mahmood will have his mid-term evaluation. \nMain supervisor: Mehdi Elahi \nCo-Supervisor: Samia Touileb \nExternal Evaluator: Sole Pera
URL:https://mediafutures.no/event/mid-term-evaluation-of-phd-candidate-bilal-mahmood/
LOCATION:SFI MediaFutures\, MCB
CATEGORIES:Events,WP2 User Modeling, Personalisation & Engagement
ATTACH;FMTTYPE=image/png:https://mediafutures.no/wp-content/uploads/bilal.png
END:VEVENT
END:VCALENDAR