BEGIN:VCALENDAR
VERSION:2.0
PRODID:-//MediaFutures - ECPv6.15.13.1//NONSGML v1.0//EN
CALSCALE:GREGORIAN
METHOD:PUBLISH
X-WR-CALNAME:MediaFutures
X-ORIGINAL-URL:https://mediafutures.no
X-WR-CALDESC:Events for MediaFutures
REFRESH-INTERVAL;VALUE=DURATION:PT1H
X-Robots-Tag:noindex
X-PUBLISHED-TTL:PT1H
BEGIN:VTIMEZONE
TZID:Europe/Oslo
BEGIN:DAYLIGHT
TZOFFSETFROM:+0100
TZOFFSETTO:+0200
TZNAME:CEST
DTSTART:20200329T010000
END:DAYLIGHT
BEGIN:STANDARD
TZOFFSETFROM:+0200
TZOFFSETTO:+0100
TZNAME:CET
DTSTART:20201025T010000
END:STANDARD
BEGIN:DAYLIGHT
TZOFFSETFROM:+0100
TZOFFSETTO:+0200
TZNAME:CEST
DTSTART:20210328T010000
END:DAYLIGHT
BEGIN:STANDARD
TZOFFSETFROM:+0200
TZOFFSETTO:+0100
TZNAME:CET
DTSTART:20211031T010000
END:STANDARD
BEGIN:DAYLIGHT
TZOFFSETFROM:+0100
TZOFFSETTO:+0200
TZNAME:CEST
DTSTART:20220327T010000
END:DAYLIGHT
BEGIN:STANDARD
TZOFFSETFROM:+0200
TZOFFSETTO:+0100
TZNAME:CET
DTSTART:20221030T010000
END:STANDARD
END:VTIMEZONE
BEGIN:VEVENT
DTSTART;TZID=Europe/Oslo:20211028T120000
DTEND;TZID=Europe/Oslo:20211028T130000
DTSTAMP:20260426T014620
CREATED:20210916T121140Z
LAST-MODIFIED:20220225T081307Z
UID:9231-1635422400-1635426000@mediafutures.no
SUMMARY:MediaFutures Seminar: Countering rumours in online social media: A comprehensive response with the focus on ML-based approaches\, Amir Ebrahimi Fard
DESCRIPTION:Amir Ebrahimi Fard\, Postdoctoral Researcher on Explainable AI at Maastricht University\, will give a talk on Thursday 28 October\, at 12:00. \n  \nTITLE: Countering rumours in online social media: A comprehensive response with the focus on ML-based approachesWHEN: Thursday 28 October 2021\, 12:00-13:00WHERE: Zoom: https://uib.zoom.us/j/62501981715?pwd=cTFaemd6d2gzWTVlamcrWW9BTC8rdz09 Meeting ID: 625 0198 1715Password: MQFY5Zm1 \nAbstract:  \nThe phenomenon of rumour spreading refers to a collective process where people participate in the transmission of unverified and relevant information to make sense of ambiguous\, dangerous\, or threatening situations. The dissemination of rumours in certain subject domains such as healthcare\, economics\, and politics on a large scale no matter with what purpose could precipitate catastrophic repercussions. Thus it is of utmost importance to respond to this growing threat urgently and meticulously. There have been serious efforts by governments\, platforms\, news organisations\, and academic institutions around the world to curb and control the dissemination of online rumours; however\, the surge of unsubstantiated claims and conspiracy theories during the COVID time showed the power of this phenomenon once more. \nInspired by epidemiology\, during this seminar\, I will discuss a comprehensive and coordinated response to counter rumour spreading in social media. Besides\, in this response\, I will emphasise the role of machine learning-based models due to their scalability and point out one specific issue with current approaches to computational rumour detection. \nBio:  \nAmir Ebrahimi Fard is a postdoctoral researcher on Explainable AI at the Department of Data Science and Knowledge Engineering at Maastricht University. He received his PhD from TU Delft on the topic of rumour detection in online social media.
URL:https://mediafutures.no/event/mediafutures-seminar-amir-ebrahimi-fard/
LOCATION:Online
CATEGORIES:Events,Seminar,WP2 User Modeling, Personalisation & Engagement
ATTACH;FMTTYPE=image/jpeg:https://mediafutures.no/wp-content/uploads/photo_Amir-Ebrahimi-Fard-scaled-e1636031008101.jpg
END:VEVENT
END:VCALENDAR