BEGIN:VCALENDAR
VERSION:2.0
PRODID:-//MediaFutures - ECPv6.15.13.1//NONSGML v1.0//EN
CALSCALE:GREGORIAN
METHOD:PUBLISH
X-ORIGINAL-URL:https://mediafutures.no
X-WR-CALDESC:Events for MediaFutures
REFRESH-INTERVAL;VALUE=DURATION:PT1H
X-Robots-Tag:noindex
X-PUBLISHED-TTL:PT1H
BEGIN:VTIMEZONE
TZID:Europe/Oslo
BEGIN:DAYLIGHT
TZOFFSETFROM:+0100
TZOFFSETTO:+0200
TZNAME:CEST
DTSTART:20240331T010000
END:DAYLIGHT
BEGIN:STANDARD
TZOFFSETFROM:+0200
TZOFFSETTO:+0100
TZNAME:CET
DTSTART:20241027T010000
END:STANDARD
BEGIN:DAYLIGHT
TZOFFSETFROM:+0100
TZOFFSETTO:+0200
TZNAME:CEST
DTSTART:20250330T010000
END:DAYLIGHT
BEGIN:STANDARD
TZOFFSETFROM:+0200
TZOFFSETTO:+0100
TZNAME:CET
DTSTART:20251026T010000
END:STANDARD
BEGIN:DAYLIGHT
TZOFFSETFROM:+0100
TZOFFSETTO:+0200
TZNAME:CEST
DTSTART:20260329T010000
END:DAYLIGHT
BEGIN:STANDARD
TZOFFSETFROM:+0200
TZOFFSETTO:+0100
TZNAME:CET
DTSTART:20261025T010000
END:STANDARD
END:VTIMEZONE
BEGIN:VEVENT
DTSTART;TZID=Europe/Oslo:20250307T093000
DTEND;TZID=Europe/Oslo:20250307T150000
DTSTAMP:20260421T002725
CREATED:20250228T102003Z
LAST-MODIFIED:20250228T105718Z
UID:20410-1741339800-1741359600@mediafutures.no
SUMMARY:AI anno 2030: In the Public Interest?
DESCRIPTION:UiB AI is collaborating with NORA on a CuttingEdgeAI seminar in the University Aula in Bergen. The idea behind the seminar is to bring together some of the foremost AI researchers in Norway to discuss where we stand in terms of research\, which areas Norway has the opportunity to make its mark on and what might happen on the AI front in the future. Where will the research front be in different branches of artificial intelligence in five years’ time? And does AI represent the public interest\, for example when it comes to democracy\, labour\, welfare\, the environment and culture? The seminar is mostly in Norwegian. \n\n\n\n\n\nThe seminar will be streamed\, and the recording will be available through a link. \nProgram:\n09:00 Arrival and light refreshments09:30 Welcome by Pro-Rector Pinar Heggernes\, Pro-Rector at UiB and Chair of the UiB AI Steering Group \nPart 1: Where is the research front in various branches of artificial intelligence headed?\n09:40 AI research in Norway in 2025: Anne Kjersti Fahlvik\, Director of Innovation in Business and the Public Sector\, Research Council of Norway \n10:00 Arnoldo Frigessi\, Professor and Director of the Center of Excellence (SFF) Integreat\, UiO10:15 Jill Walker Rettberg\, Professor and Deputy Director of the Center of Excellence for Digital Narratives\, UiB \n10:30 Coffee break \n11:00 Robert Jenssen\, Professor and Director of the Center for Research-based Innovation (SFI) Visual Intelligence\, UiT – The Arctic University of Norway11:15 Panel discussion with Anne Kjersti\, Arnoldo\, Jill\, and Robert\, moderated by Pinar Heggernes\, Pro-Rector\, UiB \n11:45 Lunch \nPart 2: Where does Norway have particular strengths in AI research?\n12:30 AI at NAV – What are we doing\, and what are we wondering about?Jon Vegard Sparre\, AI Lead at NAV \n12:45 Heri Ramampiaro\, Professor and Head of the Department of Computer Science\, NTNU13:00 Marija Slavkovik\, Professor and Head of the Department of Information Science and Media Studies\, UiB \n13:15 Coffee break \n13:45 AI and regulation: From Norwegian marketing to research qualityMalcolm Langford\, Professor at the Department of Public and International Law\, UiO \n14:00 Panel discussion with Jon Vegard\, Heri\, Marija\, and Malcolm\, moderated by Klas Pettersen\, CEO of NORA \n14:30 Food and networking15:00 Farewell \nModerator for the day: Dag Stenvoll\, Coordinator for UiB AI
URL:https://mediafutures.no/event/ai-anno-2030-in-the-public-interest/
LOCATION:Universitetsaulaen\, Muséplassen 3
CATEGORIES:Seminar
ATTACH;FMTTYPE=image/jpeg:https://mediafutures.no/wp-content/uploads/cuttingedgeai_banner_uib.jpg
END:VEVENT
END:VCALENDAR