BEGIN:VCALENDAR
VERSION:2.0
PRODID:-//MediaFutures - ECPv6.15.13.1//NONSGML v1.0//EN
CALSCALE:GREGORIAN
METHOD:PUBLISH
X-ORIGINAL-URL:https://mediafutures.no
X-WR-CALDESC:Events for MediaFutures
REFRESH-INTERVAL;VALUE=DURATION:PT1H
X-Robots-Tag:noindex
X-PUBLISHED-TTL:PT1H
BEGIN:VTIMEZONE
TZID:Europe/Oslo
BEGIN:DAYLIGHT
TZOFFSETFROM:+0100
TZOFFSETTO:+0200
TZNAME:CEST
DTSTART:20230326T010000
END:DAYLIGHT
BEGIN:STANDARD
TZOFFSETFROM:+0200
TZOFFSETTO:+0100
TZNAME:CET
DTSTART:20231029T010000
END:STANDARD
BEGIN:DAYLIGHT
TZOFFSETFROM:+0100
TZOFFSETTO:+0200
TZNAME:CEST
DTSTART:20240331T010000
END:DAYLIGHT
BEGIN:STANDARD
TZOFFSETFROM:+0200
TZOFFSETTO:+0100
TZNAME:CET
DTSTART:20241027T010000
END:STANDARD
BEGIN:DAYLIGHT
TZOFFSETFROM:+0100
TZOFFSETTO:+0200
TZNAME:CEST
DTSTART:20250330T010000
END:DAYLIGHT
BEGIN:STANDARD
TZOFFSETFROM:+0200
TZOFFSETTO:+0100
TZNAME:CET
DTSTART:20251026T010000
END:STANDARD
END:VTIMEZONE
BEGIN:VEVENT
DTSTART;TZID=Europe/Oslo:20241129T100000
DTEND;TZID=Europe/Oslo:20241129T150000
DTSTAMP:20260421T060038
CREATED:20241017T082018Z
LAST-MODIFIED:20241122T102255Z
UID:19510-1732874400-1732892400@mediafutures.no
SUMMARY:UiB AI #12: Aligning AI with Human Values. Challenges and Solutions
DESCRIPTION:The event aims to bring together experts\, researchers\, and industry professionals to explore\, discuss\, and advance our understanding of the challenges and solutions related to aligning artificial intelligence systems with human values and goals. \nThe objectives and expected outcomes of this seminar are as follows:\n– Participants will gain a deeper understanding of the challenges associated with AI alignment\, including biases\, interpretability\, and value misalignment.\n– The workshop will facilitate interactive discussions to develop concrete solutions and strategies for addressing AI alignment challenges.\n– Participants will have the opportunity to network with leading experts and build connections that can lead to ongoing collaborations and partnerships \nThis event is a collaboration between Universitetsfondet and UiB AI. \nProgramme: \n09:00-09:30: Registration and coffee \n09:30-09:40: Introduction by moderator Samia Touileb\, Department of Information Science and Media Studies at University of Bergen \n09:40-10:15: How can we prevent LLMs from behaving badly? Jan Broersen\, Professor at the Department of Philosophy and Religious Studies\, Utrecht University \n10:15-10:50: Value aware AI. Nardine Osman\, Tenured Scientist at the Artificial Intelligence Research Institute (IIIA)\, Spanish National Research Council (CSIC) (presentation by Zoom) \n10:50-11:05: Coffee break \n11:05-11:40: AI alignment of LLMs: a simple case study on detecting deceptive designs. Davide Liga\, Post. Doc. at the Faculty of Science\, Technology and Medicine\, Université de Luxembourg \n11:40-12:15: Human Interactions and their Implications for Ethical and Responsible Robotics and AI. Dr. Emily C. Collins\, Dame Kathleen Ollerenshaw Fellow at the Department of Computer Science\, The University of Manchester. \n12:15-12:45: Lunch (included) \n12:45-13:20: Towards a Critical Political Economy of Generative AI. Vinit Ravishankar\, Independent researcher with a PhD in multilingual language technology \n13:20-13:55: Enabling Responsible AI with Humans. Nadin Kokciyan\, Director of the Human-Centered AI Lab (CHAI Lab) at the University of Edinburgh \n13:55-1410: Coffee break \n14:10-14:45: News in AI age: alignment with editorial values and ethics. Anastasiia Klimashevskaia\, PhD candidate\, MediaFutures: Research Centre for Responsible Media Technology & Innovation \n14:45-15:20: Machine ethics and alignment. Marija Slavkovik\, Professor at Department of Information Science and Media Studies at the University of Bergen \n15:20-15:40: Wrap up and discussions
URL:https://mediafutures.no/event/uib-ai-12-aligning-ai-with-human-values-challenges-and-solutions/
LOCATION:Storsalen\, Nygårdsgaten 5\, first floor
CATEGORIES:Seminar
ATTACH;FMTTYPE=image/jpeg:https://mediafutures.no/wp-content/uploads/ai.jpg
END:VEVENT
END:VCALENDAR