BEGIN:VCALENDAR
VERSION:2.0
PRODID:-//MediaFutures - ECPv6.15.13.1//NONSGML v1.0//EN
CALSCALE:GREGORIAN
METHOD:PUBLISH
X-ORIGINAL-URL:https://mediafutures.no
X-WR-CALDESC:Events for MediaFutures
REFRESH-INTERVAL;VALUE=DURATION:PT1H
X-Robots-Tag:noindex
X-PUBLISHED-TTL:PT1H
BEGIN:VTIMEZONE
TZID:Europe/Oslo
BEGIN:DAYLIGHT
TZOFFSETFROM:+0100
TZOFFSETTO:+0200
TZNAME:CEST
DTSTART:20250330T010000
END:DAYLIGHT
BEGIN:STANDARD
TZOFFSETFROM:+0200
TZOFFSETTO:+0100
TZNAME:CET
DTSTART:20251026T010000
END:STANDARD
BEGIN:DAYLIGHT
TZOFFSETFROM:+0100
TZOFFSETTO:+0200
TZNAME:CEST
DTSTART:20260329T010000
END:DAYLIGHT
BEGIN:STANDARD
TZOFFSETFROM:+0200
TZOFFSETTO:+0100
TZNAME:CET
DTSTART:20261025T010000
END:STANDARD
BEGIN:DAYLIGHT
TZOFFSETFROM:+0100
TZOFFSETTO:+0200
TZNAME:CEST
DTSTART:20270328T010000
END:DAYLIGHT
BEGIN:STANDARD
TZOFFSETFROM:+0200
TZOFFSETTO:+0100
TZNAME:CET
DTSTART:20271031T010000
END:STANDARD
END:VTIMEZONE
BEGIN:VEVENT
DTSTART;TZID=Europe/Oslo:20260311T180000
DTEND;TZID=Europe/Oslo:20260311T200000
DTSTAMP:20260420T030808
CREATED:20260127T142842Z
LAST-MODIFIED:20260203T093920Z
UID:22429-1773252000-1773259200@mediafutures.no
SUMMARY:Samia Touileb & Lilja Øvrelid at the Norwegian Academy of Science and Letters
DESCRIPTION:Samia Touileb and Lilja Øvrelid from MediaFutures will participate as keynote speakers in a conversation at the Norwegian Academy of Science and Letters\, as part of the Forskning og KI (Research and AI) series. The event will focus on the themes of research sovereignty and artificial intelligence\, discussing their implications for the future of media and technology. It will provide valuable insights into how AI intersects with academic research and the importance of sovereignty in the rapidly evolving technological landscape. \nSpeakers:Samia Touileb is an Associate Professor in Language Technology at the Department of Information and Media Studies at the University of Bergen. She is a member of the Academy of Young Researchers and was honored with the Communication Award by the Faculty of Social Sciences in November 2025. \nLilja Øvrelid is a Professor at the Department of Informatics at the University of Oslo\, where she leads the Language Technology Group. Her research focuses on text processing using machine learning techniques. \nDate: 11th March 2026Location: Norwegian Academy of Science and Letters \nFor more details\, please visit the official event page.
URL:https://mediafutures.no/event/samia-touleb-lilja-ovrelid-at-the-norwegian-academy-of-science-and-letters/
LOCATION:Det Norske Videnskaps-Akademi\, Drammensveien 78\, Oslo\, Norway
CATEGORIES:Events
ATTACH;FMTTYPE=image/png:https://mediafutures.no/wp-content/uploads/Frame-155-1.png
END:VEVENT
END:VCALENDAR